BEGIN:VCALENDAR
VERSION:2.0
PRODID:-//Tracmove Tracking Sports - ECPv6.15.15//NONSGML v1.0//EN
CALSCALE:GREGORIAN
METHOD:PUBLISH
X-ORIGINAL-URL:https://tracmove.es
X-WR-CALDESC:Eventos para Tracmove Tracking Sports
REFRESH-INTERVAL;VALUE=DURATION:PT1H
X-Robots-Tag:noindex
X-PUBLISHED-TTL:PT1H
BEGIN:VTIMEZONE
TZID:Europe/Madrid
BEGIN:DAYLIGHT
TZOFFSETFROM:+0100
TZOFFSETTO:+0200
TZNAME:CEST
DTSTART:20250330T010000
END:DAYLIGHT
BEGIN:STANDARD
TZOFFSETFROM:+0200
TZOFFSETTO:+0100
TZNAME:CET
DTSTART:20251026T010000
END:STANDARD
BEGIN:DAYLIGHT
TZOFFSETFROM:+0100
TZOFFSETTO:+0200
TZNAME:CEST
DTSTART:20260329T010000
END:DAYLIGHT
BEGIN:STANDARD
TZOFFSETFROM:+0200
TZOFFSETTO:+0100
TZNAME:CET
DTSTART:20261025T010000
END:STANDARD
BEGIN:DAYLIGHT
TZOFFSETFROM:+0100
TZOFFSETTO:+0200
TZNAME:CEST
DTSTART:20270328T010000
END:DAYLIGHT
BEGIN:STANDARD
TZOFFSETFROM:+0200
TZOFFSETTO:+0100
TZNAME:CET
DTSTART:20271031T010000
END:STANDARD
END:VTIMEZONE
BEGIN:VEVENT
DTSTART;VALUE=DATE:20260411
DTEND;VALUE=DATE:20260412
DTSTAMP:20260422T042455
CREATED:20260409T104707Z
LAST-MODIFIED:20260410T101340Z
UID:11312-1775865600-1775951999@tracmove.es
SUMMARY:TENERIFE TEIDE 360 2026
DESCRIPTION:« Todos los Eventos\n 				\n				\n				\n				\n					\n	TENERIFE TEIDE 360 2026				\n				\n				\n				\n					\n		\n			11 de abril\n\n		\n\n\n	\n				\n				\n					\n		\n					\n		\n				\n						\n					\n			\n						\n				\n																														\n				\n					\n		\n					\n		\n				\n						\n					\n			\n						\n				\n					\n\n  \n    \n      El Desafío Tenerife Teide 360º es una prueba ciclodeportiva UCI de Gran Fondo en régimen de semi-autosuficiencia. Un reto de superación personal cuyo objetivo es dar la vuelta al Teide en una sola etapa\, disfrutando de un entorno volcánico espectacular a través de 130km de aventura pura.\n     \n  \n\n  \n    Detalles del Desafío\n    \n      \n        \n          El gran desafío 130K\n          Un exigente recorrido circular de gran fondo que desafía a los ciclistas a dar la vuelta completa en una sola jornada a 1400 metros de altitud.\n        \n      \n      \n        \n          Hermano Pedro 40K:\n          Un recorrido de 40 km que discurre principalmente por pistas de tierra en buen estado alrededor del Teide. Con salida y meta en Vilaflor de Chasna\, el trazado incluye tramos técnicos que requieren bajarse de la bici y segmentos asfaltados.\n        \n      \n    \n  \n\n  \n    \n    \n      \n        \n      \n      El gran desafío\n      130K\n      SEGUIR EN DIRECTO\n    \n\n    \n      \n        \n      \n      Hermano Pedro\n      40K\n      SEGUIR EN DIRECTO\n    \n\n  \n\n  \n    \n        \n        \n            \n        \n        \n        \n            Tecnología GPS Tenerife teide 360º\n            \n            \n                Seguridad de Equipos\n                \n                    Seguimiento exacto en todo el recorrido.\n                 \n            \n            \n            \n                Visualización en Vivo\n                \n                    Mapa online en tiempo real para familiares y organización.\n                 \n            \n            \n            \n                Precisión Satelital\n                \n                    Control total de posiciones mediante tecnología Tracmove.\n                 \n            \n            \n        \n    \n\n\n				\n				\n					\n		\n					\n		\n				\n						\n					\n			\n						\n				\n					¡Comparte este evento!				\n				\n				\n				\n							\n								\n						\n															\n															\n																				\n					\n									\n						\n															\n															\n																				\n					\n									\n						\n															\n															\n																				\n					\n									\n						\n															\n															\n																				\n					\n						\n						\n				\n					\n		\n					\n		\n				\n						\n					\n			\n						\n				\n									\n\n\nOrganizadores\n\n\n								\n				\n				\n				\n									WEB TEIDE 360 2026
URL:https://tracmove.es/event/tenerife-teide-360-2026/
ATTACH;FMTTYPE=image/png:https://tracmove.es/wp-content/uploads/2026/04/teide.png
END:VEVENT
BEGIN:VEVENT
DTSTART;VALUE=DATE:20260418
DTEND;VALUE=DATE:20260419
DTSTAMP:20260422T042455
CREATED:20260408T095625Z
LAST-MODIFIED:20260409T072333Z
UID:11241-1776470400-1776556799@tracmove.es
SUMMARY:ONCODINES TRAIL 2026
DESCRIPTION:« Todos los Eventos\n 				\n				\n				\n				\n					\n	TENERIFE TEIDE 360 2026				\n				\n				\n				\n					\n		\n			11 de abril\n\n		\n\n\n	\n				\n				\n					\n		\n					\n		\n				\n						\n					\n			\n						\n				\n																														\n				\n					\n		\n					\n		\n				\n						\n					\n			\n						\n				\n					\n\n  \n    \n      El Desafío Tenerife Teide 360º es una prueba ciclodeportiva UCI de Gran Fondo en régimen de semi-autosuficiencia. Un reto de superación personal cuyo objetivo es dar la vuelta al Teide en una sola etapa\, disfrutando de un entorno volcánico espectacular a través de 130km de aventura pura.\n     \n  \n\n  \n    Detalles del Desafío\n    \n      \n        \n          El gran desafío 130K\n          Un exigente recorrido circular de gran fondo que desafía a los ciclistas a dar la vuelta completa en una sola jornada a 1400 metros de altitud.\n        \n      \n      \n        \n          Hermano Pedro 40K:\n          Un recorrido de 40 km que discurre principalmente por pistas de tierra en buen estado alrededor del Teide. Con salida y meta en Vilaflor de Chasna\, el trazado incluye tramos técnicos que requieren bajarse de la bici y segmentos asfaltados.\n        \n      \n    \n  \n\n  \n    \n    \n      \n        \n      \n      El gran desafío\n      130K\n      SEGUIR EN DIRECTO\n    \n\n    \n      \n        \n      \n      Hermano Pedro\n      40K\n      SEGUIR EN DIRECTO\n    \n\n  \n\n  \n    \n        \n        \n            \n        \n        \n        \n            Tecnología GPS Tenerife teide 360º\n            \n            \n                Seguridad de Equipos\n                \n                    Seguimiento exacto en todo el recorrido.\n                 \n            \n            \n            \n                Visualización en Vivo\n                \n                    Mapa online en tiempo real para familiares y organización.\n                 \n            \n            \n            \n                Precisión Satelital\n                \n                    Control total de posiciones mediante tecnología Tracmove.\n                 \n            \n            \n        \n    \n\n\n				\n				\n					\n		\n					\n		\n				\n						\n					\n			\n						\n				\n					¡Comparte este evento!				\n				\n				\n				\n							\n								\n						\n															\n															\n																				\n					\n									\n						\n															\n															\n																				\n					\n									\n						\n															\n															\n																				\n					\n									\n						\n															\n															\n																				\n					\n						\n						\n				\n					\n		\n					\n		\n				\n						\n					\n			\n						\n				\n									\n\n\nOrganizadores\n\n\n								\n				\n				\n				\n									WEB TEIDE 360 2026
URL:https://tracmove.es/event/oncodines-trail-2026/
ATTACH;FMTTYPE=image/png:https://tracmove.es/wp-content/uploads/2026/04/onco.png
END:VEVENT
BEGIN:VEVENT
DTSTART;VALUE=DATE:20260516
DTEND;VALUE=DATE:20260517
DTSTAMP:20260422T042455
CREATED:20260317T081701Z
LAST-MODIFIED:20260317T084529Z
UID:10945-1778889600-1778975999@tracmove.es
SUMMARY:La Manchuela Gravel 2026
DESCRIPTION:« Todos los Eventos\n 				\n				\n				\n				\n					\n	TENERIFE TEIDE 360 2026				\n				\n				\n				\n					\n		\n			11 de abril\n\n		\n\n\n	\n				\n				\n					\n		\n					\n		\n				\n						\n					\n			\n						\n				\n																														\n				\n					\n		\n					\n		\n				\n						\n					\n			\n						\n				\n					\n\n  \n    \n      El Desafío Tenerife Teide 360º es una prueba ciclodeportiva UCI de Gran Fondo en régimen de semi-autosuficiencia. Un reto de superación personal cuyo objetivo es dar la vuelta al Teide en una sola etapa\, disfrutando de un entorno volcánico espectacular a través de 130km de aventura pura.\n     \n  \n\n  \n    Detalles del Desafío\n    \n      \n        \n          El gran desafío 130K\n          Un exigente recorrido circular de gran fondo que desafía a los ciclistas a dar la vuelta completa en una sola jornada a 1400 metros de altitud.\n        \n      \n      \n        \n          Hermano Pedro 40K:\n          Un recorrido de 40 km que discurre principalmente por pistas de tierra en buen estado alrededor del Teide. Con salida y meta en Vilaflor de Chasna\, el trazado incluye tramos técnicos que requieren bajarse de la bici y segmentos asfaltados.\n        \n      \n    \n  \n\n  \n    \n    \n      \n        \n      \n      El gran desafío\n      130K\n      SEGUIR EN DIRECTO\n    \n\n    \n      \n        \n      \n      Hermano Pedro\n      40K\n      SEGUIR EN DIRECTO\n    \n\n  \n\n  \n    \n        \n        \n            \n        \n        \n        \n            Tecnología GPS Tenerife teide 360º\n            \n            \n                Seguridad de Equipos\n                \n                    Seguimiento exacto en todo el recorrido.\n                 \n            \n            \n            \n                Visualización en Vivo\n                \n                    Mapa online en tiempo real para familiares y organización.\n                 \n            \n            \n            \n                Precisión Satelital\n                \n                    Control total de posiciones mediante tecnología Tracmove.\n                 \n            \n            \n        \n    \n\n\n				\n				\n					\n		\n					\n		\n				\n						\n					\n			\n						\n				\n					¡Comparte este evento!				\n				\n				\n				\n							\n								\n						\n															\n															\n																				\n					\n									\n						\n															\n															\n																				\n					\n									\n						\n															\n															\n																				\n					\n									\n						\n															\n															\n																				\n					\n						\n						\n				\n					\n		\n					\n		\n				\n						\n					\n			\n						\n				\n									\n\n\nOrganizadores\n\n\n								\n				\n				\n				\n									WEB TEIDE 360 2026
URL:https://tracmove.es/event/la-manchuela-gravel-2026/
ATTACH;FMTTYPE=image/png:https://tracmove.es/wp-content/uploads/2026/03/Logo_Manchuela_Gravel-3-e1773736877838.png
END:VEVENT
BEGIN:VEVENT
DTSTART;VALUE=DATE:20260531
DTEND;VALUE=DATE:20260607
DTSTAMP:20260422T042455
CREATED:20260320T094429Z
LAST-MODIFIED:20260409T073302Z
UID:11054-1780185600-1780790399@tracmove.es
SUMMARY:TRANSPYR COAST TO COAST 2026
DESCRIPTION:« Todos los Eventos\n 				\n				\n				\n				\n					\n	TENERIFE TEIDE 360 2026				\n				\n				\n				\n					\n		\n			11 de abril\n\n		\n\n\n	\n				\n				\n					\n		\n					\n		\n				\n						\n					\n			\n						\n				\n																														\n				\n					\n		\n					\n		\n				\n						\n					\n			\n						\n				\n					\n\n  \n    \n      El Desafío Tenerife Teide 360º es una prueba ciclodeportiva UCI de Gran Fondo en régimen de semi-autosuficiencia. Un reto de superación personal cuyo objetivo es dar la vuelta al Teide en una sola etapa\, disfrutando de un entorno volcánico espectacular a través de 130km de aventura pura.\n     \n  \n\n  \n    Detalles del Desafío\n    \n      \n        \n          El gran desafío 130K\n          Un exigente recorrido circular de gran fondo que desafía a los ciclistas a dar la vuelta completa en una sola jornada a 1400 metros de altitud.\n        \n      \n      \n        \n          Hermano Pedro 40K:\n          Un recorrido de 40 km que discurre principalmente por pistas de tierra en buen estado alrededor del Teide. Con salida y meta en Vilaflor de Chasna\, el trazado incluye tramos técnicos que requieren bajarse de la bici y segmentos asfaltados.\n        \n      \n    \n  \n\n  \n    \n    \n      \n        \n      \n      El gran desafío\n      130K\n      SEGUIR EN DIRECTO\n    \n\n    \n      \n        \n      \n      Hermano Pedro\n      40K\n      SEGUIR EN DIRECTO\n    \n\n  \n\n  \n    \n        \n        \n            \n        \n        \n        \n            Tecnología GPS Tenerife teide 360º\n            \n            \n                Seguridad de Equipos\n                \n                    Seguimiento exacto en todo el recorrido.\n                 \n            \n            \n            \n                Visualización en Vivo\n                \n                    Mapa online en tiempo real para familiares y organización.\n                 \n            \n            \n            \n                Precisión Satelital\n                \n                    Control total de posiciones mediante tecnología Tracmove.\n                 \n            \n            \n        \n    \n\n\n				\n				\n					\n		\n					\n		\n				\n						\n					\n			\n						\n				\n					¡Comparte este evento!				\n				\n				\n				\n							\n								\n						\n															\n															\n																				\n					\n									\n						\n															\n															\n																				\n					\n									\n						\n															\n															\n																				\n					\n									\n						\n															\n															\n																				\n					\n						\n						\n				\n					\n		\n					\n		\n				\n						\n					\n			\n						\n				\n									\n\n\nOrganizadores\n\n\n								\n				\n				\n				\n									WEB TEIDE 360 2026
URL:https://tracmove.es/event/transpyr-coast-to-coast-2026/
ATTACH;FMTTYPE=image/jpeg:https://tracmove.es/wp-content/uploads/2025/04/transpyr.jpg
END:VEVENT
BEGIN:VEVENT
DTSTART;VALUE=DATE:20260719
DTEND;VALUE=DATE:20260725
DTSTAMP:20260422T042455
CREATED:20251215T155632Z
LAST-MODIFIED:20251215T164829Z
UID:9729-1784419200-1784937599@tracmove.es
SUMMARY:Lost Horizons 2026
DESCRIPTION:« Todos los Eventos\n 				\n				\n				\n				\n					\n	TENERIFE TEIDE 360 2026				\n				\n				\n				\n					\n		\n			11 de abril\n\n		\n\n\n	\n				\n				\n					\n		\n					\n		\n				\n						\n					\n			\n						\n				\n																														\n				\n					\n		\n					\n		\n				\n						\n					\n			\n						\n				\n					\n\n  \n    \n      El Desafío Tenerife Teide 360º es una prueba ciclodeportiva UCI de Gran Fondo en régimen de semi-autosuficiencia. Un reto de superación personal cuyo objetivo es dar la vuelta al Teide en una sola etapa\, disfrutando de un entorno volcánico espectacular a través de 130km de aventura pura.\n     \n  \n\n  \n    Detalles del Desafío\n    \n      \n        \n          El gran desafío 130K\n          Un exigente recorrido circular de gran fondo que desafía a los ciclistas a dar la vuelta completa en una sola jornada a 1400 metros de altitud.\n        \n      \n      \n        \n          Hermano Pedro 40K:\n          Un recorrido de 40 km que discurre principalmente por pistas de tierra en buen estado alrededor del Teide. Con salida y meta en Vilaflor de Chasna\, el trazado incluye tramos técnicos que requieren bajarse de la bici y segmentos asfaltados.\n        \n      \n    \n  \n\n  \n    \n    \n      \n        \n      \n      El gran desafío\n      130K\n      SEGUIR EN DIRECTO\n    \n\n    \n      \n        \n      \n      Hermano Pedro\n      40K\n      SEGUIR EN DIRECTO\n    \n\n  \n\n  \n    \n        \n        \n            \n        \n        \n        \n            Tecnología GPS Tenerife teide 360º\n            \n            \n                Seguridad de Equipos\n                \n                    Seguimiento exacto en todo el recorrido.\n                 \n            \n            \n            \n                Visualización en Vivo\n                \n                    Mapa online en tiempo real para familiares y organización.\n                 \n            \n            \n            \n                Precisión Satelital\n                \n                    Control total de posiciones mediante tecnología Tracmove.\n                 \n            \n            \n        \n    \n\n\n				\n				\n					\n		\n					\n		\n				\n						\n					\n			\n						\n				\n					¡Comparte este evento!				\n				\n				\n				\n							\n								\n						\n															\n															\n																				\n					\n									\n						\n															\n															\n																				\n					\n									\n						\n															\n															\n																				\n					\n									\n						\n															\n															\n																				\n					\n						\n						\n				\n					\n		\n					\n		\n				\n						\n					\n			\n						\n				\n									\n\n\nOrganizadores\n\n\n								\n				\n				\n				\n									WEB TEIDE 360 2026
URL:https://tracmove.es/event/lost-horizons-2026/
ATTACH;FMTTYPE=image/webp:https://tracmove.es/wp-content/uploads/2025/12/LostHorizons.webp
END:VEVENT
END:VCALENDAR