BEGIN:VCALENDAR
VERSION:2.0
PRODID:-//Tracmove Tracking Sports - ECPv6.15.15//NONSGML v1.0//EN
CALSCALE:GREGORIAN
METHOD:PUBLISH
X-ORIGINAL-URL:https://tracmove.es
X-WR-CALDESC:Eventos para Tracmove Tracking Sports
REFRESH-INTERVAL;VALUE=DURATION:PT1H
X-Robots-Tag:noindex
X-PUBLISHED-TTL:PT1H
BEGIN:VTIMEZONE
TZID:Europe/Madrid
BEGIN:DAYLIGHT
TZOFFSETFROM:+0100
TZOFFSETTO:+0200
TZNAME:CEST
DTSTART:20240331T010000
END:DAYLIGHT
BEGIN:STANDARD
TZOFFSETFROM:+0200
TZOFFSETTO:+0100
TZNAME:CET
DTSTART:20241027T010000
END:STANDARD
BEGIN:DAYLIGHT
TZOFFSETFROM:+0100
TZOFFSETTO:+0200
TZNAME:CEST
DTSTART:20250330T010000
END:DAYLIGHT
BEGIN:STANDARD
TZOFFSETFROM:+0200
TZOFFSETTO:+0100
TZNAME:CET
DTSTART:20251026T010000
END:STANDARD
BEGIN:DAYLIGHT
TZOFFSETFROM:+0100
TZOFFSETTO:+0200
TZNAME:CEST
DTSTART:20260329T010000
END:DAYLIGHT
BEGIN:STANDARD
TZOFFSETFROM:+0200
TZOFFSETTO:+0100
TZNAME:CET
DTSTART:20261025T010000
END:STANDARD
END:VTIMEZONE
BEGIN:VEVENT
DTSTART;VALUE=DATE:20250906
DTEND;VALUE=DATE:20250907
DTSTAMP:20260422T040459
CREATED:20250909T074136Z
LAST-MODIFIED:20250909T082106Z
UID:9111-1757116800-1757203199@tracmove.es
SUMMARY:Swim Run Mogan 2025
DESCRIPTION:« Todos los Eventos\n 				\n				\n				\n				\n					\n	TENERIFE TEIDE 360 2026				\n				\n				\n				\n					\n		\n			11 de abril\n\n		\n\n\n	\n				\n				\n					\n		\n					\n		\n				\n						\n					\n			\n						\n				\n																														\n				\n					\n		\n					\n		\n				\n						\n					\n			\n						\n				\n					\n\n  \n    \n      El Desafío Tenerife Teide 360º es una prueba ciclodeportiva UCI de Gran Fondo en régimen de semi-autosuficiencia. Un reto de superación personal cuyo objetivo es dar la vuelta al Teide en una sola etapa\, disfrutando de un entorno volcánico espectacular a través de 130km de aventura pura.\n     \n  \n\n  \n    Detalles del Desafío\n    \n      \n        \n          El gran desafío 130K\n          Un exigente recorrido circular de gran fondo que desafía a los ciclistas a dar la vuelta completa en una sola jornada a 1400 metros de altitud.\n        \n      \n      \n        \n          Hermano Pedro 40K:\n          Un recorrido de 40 km que discurre principalmente por pistas de tierra en buen estado alrededor del Teide. Con salida y meta en Vilaflor de Chasna\, el trazado incluye tramos técnicos que requieren bajarse de la bici y segmentos asfaltados.\n        \n      \n    \n  \n\n  \n    \n    \n      \n        \n      \n      El gran desafío\n      130K\n      SEGUIR EN DIRECTO\n    \n\n    \n      \n        \n      \n      Hermano Pedro\n      40K\n      SEGUIR EN DIRECTO\n    \n\n  \n\n  \n    \n        \n        \n            \n        \n        \n        \n            Tecnología GPS Tenerife teide 360º\n            \n            \n                Seguridad de Equipos\n                \n                    Seguimiento exacto en todo el recorrido.\n                 \n            \n            \n            \n                Visualización en Vivo\n                \n                    Mapa online en tiempo real para familiares y organización.\n                 \n            \n            \n            \n                Precisión Satelital\n                \n                    Control total de posiciones mediante tecnología Tracmove.\n                 \n            \n            \n        \n    \n\n\n				\n				\n					\n		\n					\n		\n				\n						\n					\n			\n						\n				\n					¡Comparte este evento!				\n				\n				\n				\n							\n								\n						\n															\n															\n																				\n					\n									\n						\n															\n															\n																				\n					\n									\n						\n															\n															\n																				\n					\n									\n						\n															\n															\n																				\n					\n						\n						\n				\n					\n		\n					\n		\n				\n						\n					\n			\n						\n				\n									\n\n\nOrganizadores\n\n\n								\n				\n				\n				\n									WEB TEIDE 360 2026
URL:https://tracmove.es/event/swim-run-mogan-2025/
LOCATION:Playa de Mogán\, Las Palmas de Gran Canaria\, Spain
ATTACH;FMTTYPE=image/png:https://tracmove.es/wp-content/uploads/2025/09/ANFISWIMRUN-1.png
END:VEVENT
BEGIN:VEVENT
DTSTART;VALUE=DATE:20250913
DTEND;VALUE=DATE:20250914
DTSTAMP:20260422T040459
CREATED:20250916T084533Z
LAST-MODIFIED:20250916T084904Z
UID:9193-1757721600-1757807999@tracmove.es
SUMMARY:La Tea Gran Fondo 2025
DESCRIPTION:« Todos los Eventos\n 				\n				\n				\n				\n					\n	TENERIFE TEIDE 360 2026				\n				\n				\n				\n					\n		\n			11 de abril\n\n		\n\n\n	\n				\n				\n					\n		\n					\n		\n				\n						\n					\n			\n						\n				\n																														\n				\n					\n		\n					\n		\n				\n						\n					\n			\n						\n				\n					\n\n  \n    \n      El Desafío Tenerife Teide 360º es una prueba ciclodeportiva UCI de Gran Fondo en régimen de semi-autosuficiencia. Un reto de superación personal cuyo objetivo es dar la vuelta al Teide en una sola etapa\, disfrutando de un entorno volcánico espectacular a través de 130km de aventura pura.\n     \n  \n\n  \n    Detalles del Desafío\n    \n      \n        \n          El gran desafío 130K\n          Un exigente recorrido circular de gran fondo que desafía a los ciclistas a dar la vuelta completa en una sola jornada a 1400 metros de altitud.\n        \n      \n      \n        \n          Hermano Pedro 40K:\n          Un recorrido de 40 km que discurre principalmente por pistas de tierra en buen estado alrededor del Teide. Con salida y meta en Vilaflor de Chasna\, el trazado incluye tramos técnicos que requieren bajarse de la bici y segmentos asfaltados.\n        \n      \n    \n  \n\n  \n    \n    \n      \n        \n      \n      El gran desafío\n      130K\n      SEGUIR EN DIRECTO\n    \n\n    \n      \n        \n      \n      Hermano Pedro\n      40K\n      SEGUIR EN DIRECTO\n    \n\n  \n\n  \n    \n        \n        \n            \n        \n        \n        \n            Tecnología GPS Tenerife teide 360º\n            \n            \n                Seguridad de Equipos\n                \n                    Seguimiento exacto en todo el recorrido.\n                 \n            \n            \n            \n                Visualización en Vivo\n                \n                    Mapa online en tiempo real para familiares y organización.\n                 \n            \n            \n            \n                Precisión Satelital\n                \n                    Control total de posiciones mediante tecnología Tracmove.\n                 \n            \n            \n        \n    \n\n\n				\n				\n					\n		\n					\n		\n				\n						\n					\n			\n						\n				\n					¡Comparte este evento!				\n				\n				\n				\n							\n								\n						\n															\n															\n																				\n					\n									\n						\n															\n															\n																				\n					\n									\n						\n															\n															\n																				\n					\n									\n						\n															\n															\n																				\n					\n						\n						\n				\n					\n		\n					\n		\n				\n						\n					\n			\n						\n				\n									\n\n\nOrganizadores\n\n\n								\n				\n				\n				\n									WEB TEIDE 360 2026
URL:https://tracmove.es/event/la-tea-gran-fondo-2025/
ATTACH;FMTTYPE=image/jpeg:https://tracmove.es/wp-content/uploads/2025/09/la-tea-gran-fondo-la-palma.jpg
END:VEVENT
BEGIN:VEVENT
DTSTART;VALUE=DATE:20250919
DTEND;VALUE=DATE:20250922
DTSTAMP:20260422T040459
CREATED:20250908T081640Z
LAST-MODIFIED:20251015T103937Z
UID:9049-1758240000-1758499199@tracmove.es
SUMMARY:UCI Gravel Élite Series de Sea Otter 2025
DESCRIPTION:« Todos los Eventos\n 				\n				\n				\n				\n					\n	TENERIFE TEIDE 360 2026				\n				\n				\n				\n					\n		\n			11 de abril\n\n		\n\n\n	\n				\n				\n					\n		\n					\n		\n				\n						\n					\n			\n						\n				\n																														\n				\n					\n		\n					\n		\n				\n						\n					\n			\n						\n				\n					\n\n  \n    \n      El Desafío Tenerife Teide 360º es una prueba ciclodeportiva UCI de Gran Fondo en régimen de semi-autosuficiencia. Un reto de superación personal cuyo objetivo es dar la vuelta al Teide en una sola etapa\, disfrutando de un entorno volcánico espectacular a través de 130km de aventura pura.\n     \n  \n\n  \n    Detalles del Desafío\n    \n      \n        \n          El gran desafío 130K\n          Un exigente recorrido circular de gran fondo que desafía a los ciclistas a dar la vuelta completa en una sola jornada a 1400 metros de altitud.\n        \n      \n      \n        \n          Hermano Pedro 40K:\n          Un recorrido de 40 km que discurre principalmente por pistas de tierra en buen estado alrededor del Teide. Con salida y meta en Vilaflor de Chasna\, el trazado incluye tramos técnicos que requieren bajarse de la bici y segmentos asfaltados.\n        \n      \n    \n  \n\n  \n    \n    \n      \n        \n      \n      El gran desafío\n      130K\n      SEGUIR EN DIRECTO\n    \n\n    \n      \n        \n      \n      Hermano Pedro\n      40K\n      SEGUIR EN DIRECTO\n    \n\n  \n\n  \n    \n        \n        \n            \n        \n        \n        \n            Tecnología GPS Tenerife teide 360º\n            \n            \n                Seguridad de Equipos\n                \n                    Seguimiento exacto en todo el recorrido.\n                 \n            \n            \n            \n                Visualización en Vivo\n                \n                    Mapa online en tiempo real para familiares y organización.\n                 \n            \n            \n            \n                Precisión Satelital\n                \n                    Control total de posiciones mediante tecnología Tracmove.\n                 \n            \n            \n        \n    \n\n\n				\n				\n					\n		\n					\n		\n				\n						\n					\n			\n						\n				\n					¡Comparte este evento!				\n				\n				\n				\n							\n								\n						\n															\n															\n																				\n					\n									\n						\n															\n															\n																				\n					\n									\n						\n															\n															\n																				\n					\n									\n						\n															\n															\n																				\n					\n						\n						\n				\n					\n		\n					\n		\n				\n						\n					\n			\n						\n				\n									\n\n\nOrganizadores\n\n\n								\n				\n				\n				\n									WEB TEIDE 360 2026
URL:https://tracmove.es/event/uci-gravel-elite-series-de-sea-otter-2025/
LOCATION:Girona\, Girona\, España
ATTACH;FMTTYPE=image/png:https://tracmove.es/wp-content/uploads/2025/09/uci_gravel_world_series_costa_brava_226ers_b.png
END:VEVENT
BEGIN:VEVENT
DTSTART;VALUE=DATE:20250927
DTEND;VALUE=DATE:20250928
DTSTAMP:20260422T040459
CREATED:20250923T080103Z
LAST-MODIFIED:20250923T080326Z
UID:9357-1758931200-1759017599@tracmove.es
SUMMARY:Som Valles Trail 2025
DESCRIPTION:« Todos los Eventos\n 				\n				\n				\n				\n					\n	TENERIFE TEIDE 360 2026				\n				\n				\n				\n					\n		\n			11 de abril\n\n		\n\n\n	\n				\n				\n					\n		\n					\n		\n				\n						\n					\n			\n						\n				\n																														\n				\n					\n		\n					\n		\n				\n						\n					\n			\n						\n				\n					\n\n  \n    \n      El Desafío Tenerife Teide 360º es una prueba ciclodeportiva UCI de Gran Fondo en régimen de semi-autosuficiencia. Un reto de superación personal cuyo objetivo es dar la vuelta al Teide en una sola etapa\, disfrutando de un entorno volcánico espectacular a través de 130km de aventura pura.\n     \n  \n\n  \n    Detalles del Desafío\n    \n      \n        \n          El gran desafío 130K\n          Un exigente recorrido circular de gran fondo que desafía a los ciclistas a dar la vuelta completa en una sola jornada a 1400 metros de altitud.\n        \n      \n      \n        \n          Hermano Pedro 40K:\n          Un recorrido de 40 km que discurre principalmente por pistas de tierra en buen estado alrededor del Teide. Con salida y meta en Vilaflor de Chasna\, el trazado incluye tramos técnicos que requieren bajarse de la bici y segmentos asfaltados.\n        \n      \n    \n  \n\n  \n    \n    \n      \n        \n      \n      El gran desafío\n      130K\n      SEGUIR EN DIRECTO\n    \n\n    \n      \n        \n      \n      Hermano Pedro\n      40K\n      SEGUIR EN DIRECTO\n    \n\n  \n\n  \n    \n        \n        \n            \n        \n        \n        \n            Tecnología GPS Tenerife teide 360º\n            \n            \n                Seguridad de Equipos\n                \n                    Seguimiento exacto en todo el recorrido.\n                 \n            \n            \n            \n                Visualización en Vivo\n                \n                    Mapa online en tiempo real para familiares y organización.\n                 \n            \n            \n            \n                Precisión Satelital\n                \n                    Control total de posiciones mediante tecnología Tracmove.\n                 \n            \n            \n        \n    \n\n\n				\n				\n					\n		\n					\n		\n				\n						\n					\n			\n						\n				\n					¡Comparte este evento!				\n				\n				\n				\n							\n								\n						\n															\n															\n																				\n					\n									\n						\n															\n															\n																				\n					\n									\n						\n															\n															\n																				\n					\n									\n						\n															\n															\n																				\n					\n						\n						\n				\n					\n		\n					\n		\n				\n						\n					\n			\n						\n				\n									\n\n\nOrganizadores\n\n\n								\n				\n				\n				\n									WEB TEIDE 360 2026
URL:https://tracmove.es/event/som-valles-trail-2025/
LOCATION:Cerdanyola del Vallès\, Barcelona\, 08290
ATTACH;FMTTYPE=image/jpeg:https://tracmove.es/wp-content/uploads/2025/04/somvalles.jpeg
END:VEVENT
END:VCALENDAR